BEGIN:VCALENDAR
VERSION:2.0
PRODID:-//Brain Injury Association of America - ECPv6.15.20//NONSGML v1.0//EN
CALSCALE:GREGORIAN
METHOD:PUBLISH
X-ORIGINAL-URL:https://biausa.org
X-WR-CALDESC:Events for Brain Injury Association of America
REFRESH-INTERVAL;VALUE=DURATION:PT1H
X-Robots-Tag:noindex
X-PUBLISHED-TTL:PT1H
BEGIN:VTIMEZONE
TZID:America/New_York
BEGIN:DAYLIGHT
TZOFFSETFROM:-0500
TZOFFSETTO:-0400
TZNAME:EDT
DTSTART:20240310T070000
END:DAYLIGHT
BEGIN:STANDARD
TZOFFSETFROM:-0400
TZOFFSETTO:-0500
TZNAME:EST
DTSTART:20241103T060000
END:STANDARD
BEGIN:DAYLIGHT
TZOFFSETFROM:-0500
TZOFFSETTO:-0400
TZNAME:EDT
DTSTART:20250309T070000
END:DAYLIGHT
BEGIN:STANDARD
TZOFFSETFROM:-0400
TZOFFSETTO:-0500
TZNAME:EST
DTSTART:20251102T060000
END:STANDARD
BEGIN:DAYLIGHT
TZOFFSETFROM:-0500
TZOFFSETTO:-0400
TZNAME:EDT
DTSTART:20260308T070000
END:DAYLIGHT
BEGIN:STANDARD
TZOFFSETFROM:-0400
TZOFFSETTO:-0500
TZNAME:EST
DTSTART:20261101T060000
END:STANDARD
END:VTIMEZONE
BEGIN:VEVENT
DTSTART;TZID=America/New_York:20251106T150000
DTEND;TZID=America/New_York:20251106T160000
DTSTAMP:20260424T072139
CREATED:20251015T192405Z
LAST-MODIFIED:20251015T192445Z
UID:10000199-1762441200-1762444800@biausa.org
SUMMARY:Tips for Caregivers: How to Support Common Post-TBI Symptoms
DESCRIPTION:Individuals living with traumatic brain injury may experience a variety of post-injury symptoms. For caregivers\, navigating these symptoms and understanding how best to support individuals experiencing them can be challenging. This caregiver webinar will focus on developing strategies related to common post-TBI symptoms. \nLearning Objectives: \n\n	Describe common post-TBI symptoms\n	Discuss common behaviors following TBI\n	Identify strategies for caregivers to support individuals experiencing common post-TBI symptoms and behaviors\n\nSpeaker: \nDavid Rothman\, PhD\, ABPP\, is an assistant professor in the Department of Physical Medicine and Rehabilitation at VCU Health System and serves as faculty in the outpatient rehabilitation psychology service at Virginia Commonwealth University. He previously worked in the inpatient brain injury service at Sheltering Arms Institute. Dr. Rothman earned his bachelor’s degree in psychology from The College of New Jersey and his doctoral degree in clinical psychology from Virginia Commonwealth University. He completed his pre-doctoral internship at the Central Virginia Department of Veterans Affairs and his fellowship in Rehabilitation Psychology at the University of Washington at Harborview Medical Center. \nIncludes 1 ACBIS CEU.
URL:https://biausa.org/event/tips-for-caregivers-how-to-support-common-post-tbi-symptoms
LOCATION:DE
END:VEVENT
BEGIN:VEVENT
DTSTART;TZID=America/New_York:20251110T150000
DTEND;TZID=America/New_York:20251110T160000
DTSTAMP:20260424T072139
CREATED:20251015T192702Z
LAST-MODIFIED:20251015T192702Z
UID:10000200-1762786800-1762790400@biausa.org
SUMMARY:TBI among Women and Girls: A Research and Clinical Imperative
DESCRIPTION:Women and girls experience traumatic brain injuries (TBI) through a range of mechanisms—yet their experiences have historically been underrepresented in research and clinical practice. This research webinar will explore the unique ways TBI affects women and girls\, highlighting gaps in epidemiological data\, the role of social determinants of health\, and the need for biologically informed\, life-course–based research. Participants will gain insight into current challenges and opportunities for advancing equitable care\, policy\, and evidence-based interventions. \nLearning Objectives: \n\n	Identify unique mechanisms of traumatic brain injury (TBI) among women and girls\, including those historically overlooked such as interpersonal violence.\n	Examine how social determinants of health influence access to care\, engagement in treatment\, and recovery outcomes following TBI.\n	Discuss current research gaps and future directions\, including the role of biological factors and life-course perspectives in informing evidence-based interventions for women and girls with TBI.\n\nPresenters: \nLisa A. Brenner\, Ph.D.\, is a Board-Certified Rehabilitation Psychologist and a Professor of Physical Medicine and Rehabilitation\, Psychiatry\, and Neurology at the University of Colorado\, Anschutz Medical Campus. Dr. Brenner co-directs the VA Brain Health Coordinating Center. \nKatherine Price Snedaker\, LCSW\, is the CEO and Founder of PINK Concussions\, a non-profit focused on female brain injury from sports\, domestic violence/assault\, accidents\, or military service. She is an international keynote speaker\, researcher\, and therapist in private practice in CT\, VA\, and CA. \nIncludes 1 ACBIS CEU.
URL:https://biausa.org/event/tbi-among-women-and-girls-a-research-and-clinical-imperative
LOCATION:DE
END:VEVENT
BEGIN:VEVENT
DTSTART;TZID=America/New_York:20251113T120000
DTEND;TZID=America/New_York:20251113T140000
DTSTAMP:20260424T072139
CREATED:20250702T190355Z
LAST-MODIFIED:20250702T192848Z
UID:10000189-1763035200-1763042400@biausa.org
SUMMARY:BIF Self Paced Course (Live Sessions) November 2025
DESCRIPTION:Developed by experienced clinicians and rehabilitation professionals\, the Brain Injury Fundamentals Self-Paced Course is a flexible\, self-guided training and certificate program designed for non-licensed direct care staff\, facility personnel\, family members\, first responders\, and community members who support individuals living with brain injuries. No prior experience is required—making it an ideal starting point for those new to brain injury care. Most of the course is asynchronous\, allowing participants to complete seven on-demand video modules (available 24/7) at their own pace. A mandatory live instructor-led webinar\, held once monthly\, provides interactive guidance and is required to earn the certificate. Registration is ongoing\, and participants can choose the live session date that best fits their schedule. Course content includes essential topics such as cognition\, behavior\, communication\, medical complications\, medication safety\, and family support. The program takes approximately eight hours to complete. While this course is not a prerequisite\, it offers an excellent introduction for those interested in pursuing advanced opportunities such as the Certified Brain Injury Specialist (CBIS) credential\, becoming a CBIS Trainer (CBIST)\, or earning the CBIS Advanced Practice (CBIS-AP) distinction—ideal next steps for professionals looking to expand their impact in brain injury rehabilitation.
URL:https://biausa.org/event/bif-self-paced-course-live-sessions-november-2025
LOCATION:DE
END:VEVENT
BEGIN:VEVENT
DTSTART;TZID=America/New_York:20251113T150000
DTEND;TZID=America/New_York:20251113T160000
DTSTAMP:20260424T072139
CREATED:20251015T192931Z
LAST-MODIFIED:20251015T192931Z
UID:10000201-1763046000-1763049600@biausa.org
SUMMARY:Improving Outcomes for Adults through Meaningful Activity and Community Integration following Traumatic Brain Injury
DESCRIPTION:Traumatic brain injury may result in a decrease in community integration\, including meaningful employment\, social participation\, home management\, and leisure pursuits. In this evidence-based clinical webinar\, Dr. Steven Wheeler will explore factors impacting successful and satisfying community participation and identify person-centered intervention approaches to support functional independence. Emphasis will be placed on the role of executive cognitive functions in TBI recovery.    \nLearning Objectives: \n\n	Identify factors that impact successful and satisfying community participation following TBI. \n	Apply functional approaches to address recovery challenges related to executive cognitive functions. \n	Discuss family-centered approaches to support long-term outcomes.\n\nSpeaker: \nSteven Wheeler\, PhD\, OTR/L\, CBIS\, FAOTA\, serves as Chair of the Department of Communication Disorders and Occupational Therapy at the University of Arkansas.  Over his career as an occupational therapist\, he has been involved in TBI-related clinical work\, teaching\, research\, and service. He has led numerous TBI service and research initiatives\, including the West Virginia TBI State Program\, which seeks to improve the lives of TBI survivors and caregivers through education\, advocacy\, and community outreach. He has conducted TBI-related presentations nationally and internationally and has authored numerous publications\, including co-authoring the American Occupational Therapy Association’s Occupational Therapy Practice Guidelines for Adults with Traumatic Brain Injury. \nIncludes 1 ACBIS CEU.
URL:https://biausa.org/event/improving-outcomes-for-adults-through-meaningful-activity-and-community-integration-following-traumatic-brain-injury
LOCATION:DE
END:VEVENT
END:VCALENDAR