BEGIN:VCALENDAR
VERSION:2.0
PRODID:-//Brain Injury Association of America - ECPv6.15.20//NONSGML v1.0//EN
CALSCALE:GREGORIAN
METHOD:PUBLISH
X-ORIGINAL-URL:https://biausa.org
X-WR-CALDESC:Events for Brain Injury Association of America
REFRESH-INTERVAL;VALUE=DURATION:PT1H
X-Robots-Tag:noindex
X-PUBLISHED-TTL:PT1H
BEGIN:VTIMEZONE
TZID:America/New_York
BEGIN:DAYLIGHT
TZOFFSETFROM:-0500
TZOFFSETTO:-0400
TZNAME:EDT
DTSTART:20240310T070000
END:DAYLIGHT
BEGIN:STANDARD
TZOFFSETFROM:-0400
TZOFFSETTO:-0500
TZNAME:EST
DTSTART:20241103T060000
END:STANDARD
BEGIN:DAYLIGHT
TZOFFSETFROM:-0500
TZOFFSETTO:-0400
TZNAME:EDT
DTSTART:20250309T070000
END:DAYLIGHT
BEGIN:STANDARD
TZOFFSETFROM:-0400
TZOFFSETTO:-0500
TZNAME:EST
DTSTART:20251102T060000
END:STANDARD
BEGIN:DAYLIGHT
TZOFFSETFROM:-0500
TZOFFSETTO:-0400
TZNAME:EDT
DTSTART:20260308T070000
END:DAYLIGHT
BEGIN:STANDARD
TZOFFSETFROM:-0400
TZOFFSETTO:-0500
TZNAME:EST
DTSTART:20261101T060000
END:STANDARD
END:VTIMEZONE
BEGIN:VEVENT
DTSTART;TZID=America/New_York:20250903T000000
DTEND;TZID=America/New_York:20250903T235959
DTSTAMP:20260423T121703
CREATED:20250702T142908Z
LAST-MODIFIED:20250703T172500Z
UID:10000195-1756857600-1756943999@biausa.org
SUMMARY:CBIS Prep Course – September 2025
DESCRIPTION:Advance your career in brain injury care with the Certified Brain Injury Specialist (CBIS) Prep Bundle—now available. This comprehensive virtual training program\, held over three weekly live sessions on September 3\, 10\, and 17\, 2025\, from 11:00 a.m. to 4:30 p.m. ET\, is led by expert CBIS trainers and designed to deepen your understanding of brain injury treatment and rehabilitation. Perfect for professionals in acute care\, post-acute rehab\, behavioral health\, social work\, education\, and vocational rehab\, the bundle includes the CBIS certification application fee\, a hardcover copy of The Essential Brain Injury Guide 6.0\, a study companion workbook\, and a one-year subscription to the Journal of Head Trauma Rehabilitation. Don’t miss this opportunity to gain specialized skills and elevate the quality of care you provide—secure your spot today! Don’t miss this opportunity. Registration ends August 13\, 2025 or when filled.
URL:https://biausa.org/event/cbis-prep-course-september-2025/2025-09-03
LOCATION:DE
END:VEVENT
BEGIN:VEVENT
DTSTART;TZID=America/New_York:20250911T120000
DTEND;TZID=America/New_York:20250911T140000
DTSTAMP:20260423T121703
CREATED:20250702T183936Z
LAST-MODIFIED:20250702T183936Z
UID:10000188-1757592000-1757599200@biausa.org
SUMMARY:BIF Self Paced Course (Live Sessions) September 2025
DESCRIPTION:Developed by experienced clinicians and rehabilitation professionals\, the Brain Injury Fundamentals Self-Paced Course is a flexible\, self-guided training and certificate program designed for non-licensed direct care staff\, facility personnel\, family members\, first responders\, and community members who support individuals living with brain injuries. No prior experience is required—making it an ideal starting point for those new to brain injury care. Most of the course is asynchronous\, allowing participants to complete seven on-demand video modules (available 24/7) at their own pace. A mandatory live instructor-led webinar\, held once monthly\, provides interactive guidance and is required to earn the certificate. Registration is ongoing\, and participants can choose the live session date that best fits their schedule. Course content includes essential topics such as cognition\, behavior\, communication\, medical complications\, medication safety\, and family support. The program takes approximately eight hours to complete. While this course is not a prerequisite\, it offers an excellent introduction for those interested in pursuing advanced opportunities such as the Certified Brain Injury Specialist (CBIS) credential\, becoming a CBIS Trainer (CBIST)\, or earning the CBIS Advanced Practice (CBIS-AP) distinction—ideal next steps for professionals looking to expand their impact in brain injury rehabilitation.
URL:https://biausa.org/event/bif-self-paced-course-live-sessions-september-2025
LOCATION:DE
END:VEVENT
END:VCALENDAR