BEGIN:VCALENDAR
VERSION:2.0
PRODID:-//Brain Injury Association of America - ECPv6.15.20//NONSGML v1.0//EN
CALSCALE:GREGORIAN
METHOD:PUBLISH
X-WR-CALNAME:Brain Injury Association of America
X-ORIGINAL-URL:https://biausa.org
X-WR-CALDESC:Events for Brain Injury Association of America
REFRESH-INTERVAL;VALUE=DURATION:PT1H
X-Robots-Tag:noindex
X-PUBLISHED-TTL:PT1H
BEGIN:VTIMEZONE
TZID:America/New_York
BEGIN:DAYLIGHT
TZOFFSETFROM:-0500
TZOFFSETTO:-0400
TZNAME:EDT
DTSTART:20250309T070000
END:DAYLIGHT
BEGIN:STANDARD
TZOFFSETFROM:-0400
TZOFFSETTO:-0500
TZNAME:EST
DTSTART:20251102T060000
END:STANDARD
BEGIN:DAYLIGHT
TZOFFSETFROM:-0500
TZOFFSETTO:-0400
TZNAME:EDT
DTSTART:20260308T070000
END:DAYLIGHT
BEGIN:STANDARD
TZOFFSETFROM:-0400
TZOFFSETTO:-0500
TZNAME:EST
DTSTART:20261101T060000
END:STANDARD
BEGIN:DAYLIGHT
TZOFFSETFROM:-0500
TZOFFSETTO:-0400
TZNAME:EDT
DTSTART:20270314T070000
END:DAYLIGHT
BEGIN:STANDARD
TZOFFSETFROM:-0400
TZOFFSETTO:-0500
TZNAME:EST
DTSTART:20271107T060000
END:STANDARD
END:VTIMEZONE
BEGIN:VEVENT
DTSTART;TZID=America/New_York:20260409T150000
DTEND;TZID=America/New_York:20260409T160000
DTSTAMP:20260424T095553
CREATED:20260107T212544Z
LAST-MODIFIED:20260326T155741Z
UID:10000211-1775746800-1775750400@biausa.org
SUMMARY:Invisible Injuries: Traumatic Brain Injury\, Strangulation and Domestic Violence
DESCRIPTION:Brain injuries are currently under-identified\, under-diagnosed\, and under-treated among survivors of domestic violence. This webinar\, brought to you in partnership with the Brain Injury Association of Ohio\, The Forensic Nursing Network\, and the Ohio Domestic Violence Network\, will discuss Ohio’s groundbreaking research on domestic violence and brain injury. It will also provide healthcare professionals with key information and unique considerations for working with survivors of domestic violence\, including trauma-informed and survivor-centered approaches to care\, as well as resources and supports available through domestic violence programs and forensic nursing.  \nLearning Outcomes: \n\n	Identify common mechanisms\, signs\, and symptoms of partner-inflicted brain injury \n	Describe unique characteristics of partner-inflicted brain injury \n	Discuss components of trauma-informed and survivor-centered care for survivors of partner-inflicted brain injury\, including access to domestic violence and healthcare supports. \n\nPresenters: \n\n	Rachel Ramirez\, MA\, MSW\, LISW-S\, RA\, Director of Health and Disability Programs and Founder of The Center on Partner-Inflicted Brain Injury\, Ohio Domestic Violence Network\n	Kasey Holderbaum\, MPA\, Health and Disability Program Coordinator\, Ohio Domestic Violence Network \n	Lauren Holly\, Executive Director\, Brain Injury Association of Ohio\n	Heather Wilde\, BSN\, RN\, SANE-A\, Director of Education\, Forensic Nursing Network\n\n  \n\n\n\nClick here for professional registration\n\n\n$50\, includes 1 ACBIS CE credit.
URL:https://biausa.org/event/invisible-injuries-traumatic-brain-injury-strangulation-and-domestic-violence
LOCATION:DE
END:VEVENT
END:VCALENDAR